BEGIN:VCALENDAR
VERSION:2.0
BEGIN:VEVENT
DTSTART;TZID=Europe/Stockholm:20250421T110000
DTEND;TZID=Europe/Stockholm:20250421T120000
DTSTAMP:20260423T171525
DESCRIPTION:Ägglunken kl 11-14 ordnar Equmenia Scout
SEQUENCE:0
SUMMARY:PÅSK - Annandagen - vid Klippan
UID:8873@lawebb.se
END:VEVENT
END:VCALENDAR