BEGIN:VCALENDAR
VERSION:2.0
BEGIN:VEVENT
DTSTART;TZID=Europe/Stockholm:20250420T180000
DTEND;TZID=Europe/Stockholm:20250420T190000
DTSTAMP:20260423T172052
DESCRIPTION:Påskdagsmässa med påskmingel med Stefan Dalevi och kören No Silence.
SEQUENCE:0
SUMMARY:PÅSK - Påskdagen - i Ölme kyrka
UID:8787@lawebb.se
END:VEVENT
END:VCALENDAR