BEGIN:VCALENDAR
VERSION:2.0
BEGIN:VEVENT
DTSTART;TZID=Europe/Stockholm:20250420T110000
DTEND;TZID=Europe/Stockholm:20250420T120000
DTSTAMP:20260423T172217
DESCRIPTION:Påskdagsgudstjänst. Joakim Götborg, kören Tonika m fl
SEQUENCE:0
SUMMARY:PÅSK - Påskdagen - i Eqk Väse
UID:4582@lawebb.se
END:VEVENT
END:VCALENDAR