BEGIN:VCALENDAR
VERSION:2.0
BEGIN:VEVENT
DTSTART;TZID=Europe/Stockholm:20250418T110000
DTEND;TZID=Europe/Stockholm:20250418T120000
DTSTAMP:20260423T172433
DESCRIPTION:Ekumenisk långfredagsgudstjänst
SEQUENCE:0
SUMMARY:PÅSK - Långfredag - i Ölme kyrka
UID:7359@lawebb.se
END:VEVENT
END:VCALENDAR