BEGIN:VCALENDAR
VERSION:2.0
BEGIN:VEVENT
DTSTART;TZID=Europe/Stockholm:20250417T190000
DTEND;TZID=Europe/Stockholm:20250417T200000
DTSTAMP:20260423T172005
DESCRIPTION:Ekumenisk agapemåltid.
SEQUENCE:0
SUMMARY:PÅSK - Skärtorsdag - i Klippan
UID:8825@lawebb.se
END:VEVENT
END:VCALENDAR