BEGIN:VCALENDAR
VERSION:2.0
BEGIN:VEVENT
DTSTART;TZID=Europe/Stockholm:20250415T140000
DTEND;TZID=Europe/Stockholm:20250415T150000
DTSTAMP:20260423T171918
DESCRIPTION:Eqk Ölme är där med sång, berättande, andakt och fika.
SEQUENCE:0
SUMMARY:Sångstund på Ölmegården
UID:2332@lawebb.se
END:VEVENT
END:VCALENDAR