BEGIN:VCALENDAR
VERSION:2.0
BEGIN:VEVENT
DTSTART;TZID=Europe/Stockholm:20250413T110000
DTEND;TZID=Europe/Stockholm:20250413T120000
DTSTAMP:20260423T172433
DESCRIPTION:Joakim Götborg m.fl. Söndagsklubben för barnen och efteråt fika.
SEQUENCE:0
SUMMARY:Gudstjänst i Eqk Väse
UID:8476@lawebb.se
END:VEVENT
END:VCALENDAR