BEGIN:VCALENDAR
VERSION:2.0
BEGIN:VEVENT
DTSTART;TZID=Europe/Stockholm:20250407T000000
DTEND;TZID=Europe/Stockholm:20250407T240000
DTSTAMP:20260423T171657
DESCRIPTION:
SEQUENCE:0
SUMMARY:Programplanering tillsammans med Eqk Väse.
UID:9499@lawebb.se
END:VEVENT
END:VCALENDAR