BEGIN:VCALENDAR
VERSION:2.0
BEGIN:VEVENT
DTSTART;TZID=Europe/Stockholm:20250406T110000
DTEND;TZID=Europe/Stockholm:20250406T120000
DTSTAMP:20260423T172006
DESCRIPTION:Ulf Eriksson predikar och sjunger. Det blir insamling till pastors- o diakonutbildningen inom Equmeniakyrkan.
SEQUENCE:0
SUMMARY:Gudstjänst med nattvard i Klippan
UID:4764@lawebb.se
END:VEVENT
END:VCALENDAR