BEGIN:VCALENDAR
VERSION:2.0
BEGIN:VEVENT
DTSTART;TZID=Europe/Stockholm:20250330T110000
DTEND;TZID=Europe/Stockholm:20250330T120000
DTSTAMP:20260423T190318
DESCRIPTION:Joakim Götborg
SEQUENCE:0
SUMMARY:Gudstjänst i Eqk Väse
UID:6579@lawebb.se
END:VEVENT
END:VCALENDAR