BEGIN:VCALENDAR
VERSION:2.0
BEGIN:VEVENT
DTSTART;TZID=Europe/Stockholm:20250323T110000
DTEND;TZID=Europe/Stockholm:20250323T120000
DTSTAMP:20260423T191044
DESCRIPTION:Joakim Götborg m.fl. samt insamling till pastors- och diakonutbildningen.
SEQUENCE:0
SUMMARY:Gudstjänst i Eqk Väse
UID:6595@lawebb.se
END:VEVENT
END:VCALENDAR