BEGIN:VCALENDAR
VERSION:2.0
BEGIN:VEVENT
DTSTART;TZID=Europe/Stockholm:20250316T110000
DTEND;TZID=Europe/Stockholm:20250316T120000
DTSTAMP:20260423T191038
DESCRIPTION:Gudstjänst med sång och delande kl 11.
SEQUENCE:0
SUMMARY:Bönedygnet fortsätter till kl 12
UID:6266@lawebb.se
END:VEVENT
END:VCALENDAR