BEGIN:VCALENDAR
VERSION:2.0
BEGIN:VEVENT
DTSTART;TZID=Europe/Stockholm:20250315T180000
DTEND;TZID=Europe/Stockholm:20250315T190000
DTSTAMP:20260423T190721
DESCRIPTION:Ingela & Per Öhman sjunger o spelar och vittnar.
SEQUENCE:0
SUMMARY:Musikcafé hos Equmeniakyrkan Väse
UID:7229@lawebb.se
END:VEVENT
END:VCALENDAR