BEGIN:VCALENDAR
VERSION:2.0
BEGIN:VEVENT
DTSTART;TZID=Europe/Stockholm:20250315T120000
DTEND;TZID=Europe/Stockholm:20250315T130000
DTSTAMP:20260423T191014
DESCRIPTION:Startar kl 12 på lördagen och pågår till 12 på söndagen. Anmäl om du vill ta ansvar för någon speciell timme under dygnet. Lista finns i Klippan.
Startar med gemensam bön i kyrksalen.
SEQUENCE:0
SUMMARY:Bönedygn i Klippan kl 12-12
UID:8987@lawebb.se
END:VEVENT
END:VCALENDAR