BEGIN:VCALENDAR
VERSION:2.0
BEGIN:VEVENT
DTSTART;TZID=Europe/Stockholm:20250309T110000
DTEND;TZID=Europe/Stockholm:20250309T120000
DTSTAMP:20260423T190340
DESCRIPTION:Med Sara Flodquist och Ulf Eriksson predikar. Musiker Jörgen Hasselblad.
SEQUENCE:0
SUMMARY:Ekumenisk gudstjänst i församlingshemmet
UID:2363@lawebb.se
END:VEVENT
END:VCALENDAR