BEGIN:VCALENDAR
VERSION:2.0
BEGIN:VEVENT
DTSTART;TZID=Europe/Stockholm:20250308T100000
DTEND;TZID=Europe/Stockholm:20250308T110000
DTSTAMP:20260423T190206
DESCRIPTION:Vasakyrkan kl 10-17. Anmälan till Region Svealand.
SEQUENCE:0
SUMMARY:Dagskonferens i Örebro
UID:6953@lawebb.se
END:VEVENT
END:VCALENDAR