BEGIN:VCALENDAR
VERSION:2.0
BEGIN:VEVENT
DTSTART;TZID=Europe/Stockholm:20250302T110000
DTEND;TZID=Europe/Stockholm:20250302T120000
DTSTAMP:20260423T191105
DESCRIPTION:Tipspromenad med korvgrillning. Kort andakt med Joakim Götborg. Start vid Eqk i Väse
SEQUENCE:0
SUMMARY:Friluftsdag i sportlovsveckan
UID:4557@lawebb.se
END:VEVENT
END:VCALENDAR