BEGIN:VCALENDAR
VERSION:2.0
BEGIN:VEVENT
DTSTART;TZID=Europe/Stockholm:20250227T150000
DTEND;TZID=Europe/Stockholm:20250227T160000
DTSTAMP:20260423T211826
DESCRIPTION:
SEQUENCE:0
SUMMARY:Stickcafé hos Eqk Väse
UID:7645@lawebb.se
END:VEVENT
END:VCALENDAR