BEGIN:VCALENDAR
VERSION:2.0
BEGIN:VEVENT
DTSTART;TZID=Europe/Stockholm:20250224T000000
DTEND;TZID=Europe/Stockholm:20250224T240000
DTSTAMP:20260423T210925
DESCRIPTION:I början av veckan i din brevlåda.
SEQUENCE:0
SUMMARY:ÖlmeNytt delas ut till Ölmeborna
UID:6622@lawebb.se
END:VEVENT
END:VCALENDAR