BEGIN:VCALENDAR
VERSION:2.0
BEGIN:VEVENT
DTSTART;TZID=Europe/Stockholm:20250223T110000
DTEND;TZID=Europe/Stockholm:20250223T120000
DTSTAMP:20260423T211139
DESCRIPTION:GÅ DJUPARE - i kärlek och tjänst för omvärlden.
Servering efter samlingen.
SEQUENCE:0
SUMMARY:Gudstjänst med Liselotte J Andersson
UID:9868@lawebb.se
END:VEVENT
END:VCALENDAR