BEGIN:VCALENDAR
VERSION:2.0
BEGIN:VEVENT
DTSTART;TZID=Europe/Stockholm:20250222T190000
DTEND;TZID=Europe/Stockholm:20250222T200000
DTSTAMP:20260423T211122
DESCRIPTION:GÅ DJUPARE - i viktiga relationer
Servering efter samlingen.
SEQUENCE:0
SUMMARY:Kvällsmöte med Liselotte J Andersson
UID:7599@lawebb.se
END:VEVENT
END:VCALENDAR