BEGIN:VCALENDAR
VERSION:2.0
BEGIN:VEVENT
DTSTART;TZID=Europe/Stockholm:20250222T160000
DTEND;TZID=Europe/Stockholm:20250222T170000
DTSTAMP:20260423T211122
DESCRIPTION:GÅ DJUPARE - i din tro
Servering efter samlingen.
SEQUENCE:0
SUMMARY:Samling med Liselotte J Andersson
UID:8469@lawebb.se
END:VEVENT
END:VCALENDAR