BEGIN:VCALENDAR
VERSION:2.0
BEGIN:VEVENT
DTSTART;TZID=Europe/Stockholm:20250222T000000
DTEND;TZID=Europe/Stockholm:20250222T240000
DTSTAMP:20260423T211056
DESCRIPTION:
SEQUENCE:0
SUMMARY:Möteshelg med Liselotte J Andersson
UID:8724@lawebb.se
END:VEVENT
END:VCALENDAR