BEGIN:VCALENDAR
VERSION:2.0
BEGIN:VEVENT
DTSTART;TZID=Europe/Stockholm:20250220T120000
DTEND;TZID=Europe/Stockholm:20250220T130000
DTSTAMP:20260423T210925
DESCRIPTION:Ölmeträffen kl 12-14 i församlingshemmet. Kristina Tjärnbro-Lämås, Sigvard Larsson och Nancy Edlund berättar om breven och bokens tillkomst och situationer med anknytning till detta.
SEQUENCE:0
SUMMARY:Dom lämnade Ölme - om utvandrarboken
UID:7662@lawebb.se
END:VEVENT
END:VCALENDAR