BEGIN:VCALENDAR
VERSION:2.0
BEGIN:VEVENT
DTSTART;TZID=Europe/Stockholm:20250216T110000
DTEND;TZID=Europe/Stockholm:20250216T120000
DTSTAMP:20260423T211139
DESCRIPTION:Joakim Götborg m.fl. Söndagsklubben.
SEQUENCE:0
SUMMARY:Gudstjänst i Eqk Väse
UID:3396@lawebb.se
END:VEVENT
END:VCALENDAR