BEGIN:VCALENDAR
VERSION:2.0
BEGIN:VEVENT
DTSTART;TZID=Europe/Stockholm:20250213T183000
DTEND;TZID=Europe/Stockholm:20250213T193000
DTSTAMP:20260423T211224
DESCRIPTION:Hos Equmeniakyrkan Väse kl 18.30-21 med Alf Rikner, Anna Gustafsson m.fl.
SEQUENCE:0
SUMMARY:Närområdesträff för region Svealand
UID:9232@lawebb.se
END:VEVENT
END:VCALENDAR