BEGIN:VCALENDAR
VERSION:2.0
BEGIN:VEVENT
DTSTART;TZID=Europe/Stockholm:20250209T110000
DTEND;TZID=Europe/Stockholm:20250209T120000
DTSTAMP:20260423T211434
DESCRIPTION:Gemensam årshögtid för våra samverkande församlingar - Eqk Väse och Eqk Ölme. Joakim Götborg m.fl.
SEQUENCE:0
SUMMARY:Gudstjänst med nattvard i Klippan
UID:8379@lawebb.se
END:VEVENT
END:VCALENDAR