BEGIN:VCALENDAR
VERSION:2.0
BEGIN:VEVENT
DTSTART;TZID=Europe/Stockholm:20250208T143000
DTEND;TZID=Europe/Stockholm:20250208T153000
DTSTAMP:20260423T211928
DESCRIPTION:Välkomna för att ta beslut om hur det gångna året har varit. Bestämmer även om det kommande året och väljer frivilliga till det många uppdragen.
Samlingen börjar med andakt och sedan fika innan förhandlingarna börjar.
SEQUENCE:0
SUMMARY:Församlingens årsmöte kl 14.30
UID:4596@lawebb.se
END:VEVENT
END:VCALENDAR