BEGIN:VCALENDAR
VERSION:2.0
BEGIN:VEVENT
DTSTART;TZID=Europe/Stockholm:20250202T110000
DTEND;TZID=Europe/Stockholm:20250202T120000
DTSTAMP:20260423T210909
DESCRIPTION:Joakim Götborg, Tanja Halvardsson och konfimanderna. Sång Rebecka och Christian Karlsson. Söndagsklubben.
SEQUENCE:0
SUMMARY:Gudstjänst hos Eqk Väse
UID:3493@lawebb.se
END:VEVENT
END:VCALENDAR