BEGIN:VCALENDAR
VERSION:2.0
BEGIN:VEVENT
DTSTART;TZID=Europe/Stockholm:20250130T150000
DTEND;TZID=Europe/Stockholm:20250130T160000
DTSTAMP:20260423T231412
DESCRIPTION:
SEQUENCE:0
SUMMARY:Stickcafé hos Eqk Väse
UID:6494@lawebb.se
END:VEVENT
END:VCALENDAR