BEGIN:VCALENDAR
VERSION:2.0
BEGIN:VEVENT
DTSTART;TZID=Europe/Stockholm:20250126T180000
DTEND;TZID=Europe/Stockholm:20250126T190000
DTSTAMP:20260423T231419
DESCRIPTION:Gudstjänst i Equmeniakyrkan i Väse med medverkande från Equmeniakyrkorna, Pingstkyrkan och Svenska kyrkan.
SEQUENCE:0
SUMMARY:Ekum böneveckan mellan K-stad o Krhmn
UID:4387@lawebb.se
END:VEVENT
END:VCALENDAR