BEGIN:VCALENDAR
VERSION:2.0
BEGIN:VEVENT
DTSTART;TZID=Europe/Stockholm:20250119T110000
DTEND;TZID=Europe/Stockholm:20250119T120000
DTSTAMP:20260423T230818
DESCRIPTION:Gudstjänst med Niklas Piensoho
SEQUENCE:0
SUMMARY:Ekum böneveckan i Broängskyrkan
UID:5333@lawebb.se
END:VEVENT
END:VCALENDAR