BEGIN:VCALENDAR
VERSION:2.0
BEGIN:VEVENT
DTSTART;TZID=Europe/Stockholm:20250118T180000
DTEND;TZID=Europe/Stockholm:20250118T190000
DTSTAMP:20260423T231755
DESCRIPTION:Kvällsmöte med Niklas Piensoho
SEQUENCE:0
SUMMARY:Ekum böneveckan i Pingstkyrkan
UID:6556@lawebb.se
END:VEVENT
END:VCALENDAR