BEGIN:VCALENDAR
VERSION:2.0
BEGIN:VEVENT
DTSTART;TZID=Europe/Stockholm:20250118T160000
DTEND;TZID=Europe/Stockholm:20250118T170000
DTSTAMP:20260423T231015
DESCRIPTION:Bibelstudium med Niklas Piensoho
SEQUENCE:0
SUMMARY:Ekum böneveckan i Pingstkyrkan
UID:7656@lawebb.se
END:VEVENT
END:VCALENDAR