BEGIN:VCALENDAR
VERSION:2.0
BEGIN:VEVENT
DTSTART;TZID=Europe/Stockholm:20250116T190000
DTEND;TZID=Europe/Stockholm:20250116T200000
DTSTAMP:20260423T231120
DESCRIPTION:Gudstjänst med Sara Flodquist
SEQUENCE:0
SUMMARY:Ekum Böneveckan hos Frälsningsarmén
UID:6679@lawebb.se
END:VEVENT
END:VCALENDAR