BEGIN:VCALENDAR
VERSION:2.0
BEGIN:VEVENT
DTSTART;TZID=Europe/Stockholm:20250115T190000
DTEND;TZID=Europe/Stockholm:20250115T200000
DTSTAMP:20260423T231013
DESCRIPTION:Mässa med Arvid Lundtoft och Mathias Divert predikar.
SEQUENCE:0
SUMMARY:Ekum Böneveckan i Krhmn kyrka
UID:9662@lawebb.se
END:VEVENT
END:VCALENDAR