BEGIN:VCALENDAR
VERSION:2.0
BEGIN:VEVENT
DTSTART;TZID=Europe/Stockholm:20250115T183000
DTEND;TZID=Europe/Stockholm:20250115T193000
DTSTAMP:20260423T231623
DESCRIPTION:
SEQUENCE:0
SUMMARY:Fackeltåg från Broängskyrkan till K kyrka
UID:7796@lawebb.se
END:VEVENT
END:VCALENDAR