BEGIN:VCALENDAR
VERSION:2.0
BEGIN:VEVENT
DTSTART;TZID=Europe/Stockholm:20250114T190000
DTEND;TZID=Europe/Stockholm:20250114T200000
DTSTAMP:20260423T231806
DESCRIPTION:Bön med Gunnar Palmgren.
SEQUENCE:0
SUMMARY:Ekum Böneveckan i Vike Missionshus
UID:9393@lawebb.se
END:VEVENT
END:VCALENDAR