BEGIN:VCALENDAR
VERSION:2.0
BEGIN:VEVENT
DTSTART;TZID=Europe/Stockholm:20250113T190000
DTEND;TZID=Europe/Stockholm:20250113T200000
DTSTAMP:20260423T231019
DESCRIPTION:Bön i Klippan med Josef Häggblad
SEQUENCE:0
SUMMARY:Ekumeniska Böneveckan 13-19 jan
UID:8733@lawebb.se
END:VEVENT
END:VCALENDAR