BEGIN:VCALENDAR
VERSION:2.0
BEGIN:VEVENT
DTSTART;TZID=Europe/Stockholm:20250112T110000
DTEND;TZID=Europe/Stockholm:20250112T120000
DTSTAMP:20260423T231127
DESCRIPTION:Tre i intressant samtal om församling, ja det är Kristina, Lena och Kerstin som delar tankar med oss. Du får också gärna dela något med oss.
SEQUENCE:0
SUMMARY:Gudstjänst med nattvard i Klippan
UID:4574@lawebb.se
END:VEVENT
END:VCALENDAR