BEGIN:VCALENDAR
VERSION:2.0
BEGIN:VEVENT
DTSTART;TZID=Europe/Stockholm:20250108T190000
DTEND;TZID=Europe/Stockholm:20250108T200000
DTSTAMP:20260423T231017
DESCRIPTION:Denna vecka eftersom det är Ekumeniska böneveckan nästa vecka.
SEQUENCE:0
SUMMARY:Livsnära bibelsamtal och bön
UID:6458@lawebb.se
END:VEVENT
END:VCALENDAR