BEGIN:VCALENDAR
VERSION:2.0
BEGIN:VEVENT
DTSTART;TZID=Europe/Stockholm:20250105T110000
DTEND;TZID=Europe/Stockholm:20250105T120000
DTSTAMP:20260423T231016
DESCRIPTION:Predikan via internet om GUDS HUS med Gerard Willemsen och vi delar Gudserfarenheter med varandra..
Ta gärna med något till brödfaten.
SEQUENCE:0
SUMMARY:Gudstjänst i Klippan
UID:7352@lawebb.se
END:VEVENT
END:VCALENDAR