BEGIN:VCALENDAR
VERSION:2.0
BEGIN:VEVENT
DTSTART;TZID=Europe/Stockholm:20250104T180000
DTEND;TZID=Europe/Stockholm:20250104T190000
DTSTAMP:20260423T231128
DESCRIPTION:Gemenskap vid borden med smak av jul samt om mission i andra länder.
SEQUENCE:0
SUMMARY:Jul- och missionsfest hos Eqk Väse
UID:7988@lawebb.se
END:VEVENT
END:VCALENDAR