BEGIN:VCALENDAR
VERSION:2.0
BEGIN:VEVENT
DTSTART;TZID=Europe/Stockholm:20241024T183000
DTEND;TZID=Europe/Stockholm:20241024T193000
DTSTAMP:20260424T045727
DESCRIPTION:
SEQUENCE:0
SUMMARY:Beta-kurs i Klippan för anmälda
UID:5753@lawebb.se
END:VEVENT
END:VCALENDAR