BEGIN:VCALENDAR
VERSION:2.0
BEGIN:VEVENT
DTSTART;TZID=Europe/Stockholm:20240807T203000
DTEND;TZID=Europe/Stockholm:20240807T213000
DTSTAMP:20260424T084507
DESCRIPTION:Kl 20.31-45 ber vi tillsammans för personliga och allmänna böneämnen.
SEQUENCE:0
SUMMARY:Bön på Ölmeklint
UID:7639@lawebb.se
END:VEVENT
END:VCALENDAR